BEGIN:VCALENDAR
VERSION:2.0
PRODID:-//Trinity Lutheran Church - ECPv4.9.0.3//NONSGML v1.0//EN
CALSCALE:GREGORIAN
METHOD:PUBLISH
X-WR-CALNAME:Trinity Lutheran Church
X-ORIGINAL-URL:https://trinitylutherandewitt.com
X-WR-CALDESC:Events for Trinity Lutheran Church
BEGIN:VEVENT
DTSTART;TZID=America/Chicago:20151108T084500
DTEND;TZID=America/Chicago:20151108T094500
DTSTAMP:20260423T152340
CREATED:20151031T093855Z
LAST-MODIFIED:20151031T093855Z
UID:1563-1446972300-1446975900@trinitylutherandewitt.com
SUMMARY:Adult choir
DESCRIPTION:
URL:https://trinitylutherandewitt.com/event/adult-choir-7/
CATEGORIES:Adult choir
END:VEVENT
END:VCALENDAR