BEGIN:VCALENDAR
VERSION:2.0
PRODID:-//Trinity Lutheran Church - ECPv4.9.0.3//NONSGML v1.0//EN
CALSCALE:GREGORIAN
METHOD:PUBLISH
X-WR-CALNAME:Trinity Lutheran Church
X-ORIGINAL-URL:https://trinitylutherandewitt.com
X-WR-CALDESC:Events for Trinity Lutheran Church
BEGIN:VEVENT
DTSTART;TZID=America/Chicago:20161221T083000
DTEND;TZID=America/Chicago:20161221T093000
DTSTAMP:20260422T024225
CREATED:20161202T004217Z
LAST-MODIFIED:20161204T004259Z
UID:2244-1482309000-1482312600@trinitylutherandewitt.com
SUMMARY:Bible study
DESCRIPTION:
URL:https://trinitylutherandewitt.com/event/bible-study-62/
CATEGORIES:Bible Study
END:VEVENT
END:VCALENDAR