BEGIN:VCALENDAR
VERSION:2.0
PRODID:-//Trinity Lutheran Church - ECPv4.9.0.3//NONSGML v1.0//EN
CALSCALE:GREGORIAN
METHOD:PUBLISH
X-WR-CALNAME:Trinity Lutheran Church
X-ORIGINAL-URL:https://trinitylutherandewitt.com
X-WR-CALDESC:Events for Trinity Lutheran Church
BEGIN:VEVENT
DTSTART;TZID=UTC+0:20171011T083000
DTEND;TZID=UTC+0:20171011T093000
DTSTAMP:20260423T114744
CREATED:20171002T021419Z
LAST-MODIFIED:20171002T021419Z
UID:2844-1507710600-1507714200@trinitylutherandewitt.com
SUMMARY:Bible study
DESCRIPTION:
URL:https://trinitylutherandewitt.com/event/bible-study-96/
CATEGORIES:Bible Study
END:VEVENT
END:VCALENDAR