BEGIN:VCALENDAR
VERSION:2.0
PRODID:-//Trinity Lutheran Church - ECPv4.9.0.3//NONSGML v1.0//EN
CALSCALE:GREGORIAN
METHOD:PUBLISH
X-WR-CALNAME:Trinity Lutheran Church
X-ORIGINAL-URL:https://trinitylutherandewitt.com
X-WR-CALDESC:Events for Trinity Lutheran Church
BEGIN:VEVENT
DTSTART;TZID=UTC+0:20190303T084500
DTEND;TZID=UTC+0:20190303T094500
DTSTAMP:20260423T200827
CREATED:20190301T061834Z
LAST-MODIFIED:20190302T061920Z
UID:4345-1551602700-1551606300@trinitylutherandewitt.com
SUMMARY:Care-a-lot
DESCRIPTION:
URL:https://trinitylutherandewitt.com/event/care-a-lot-23/
CATEGORIES:Sunday school
END:VEVENT
END:VCALENDAR