BEGIN:VCALENDAR
VERSION:2.0
PRODID:-//Trinity Lutheran Church - ECPv4.9.0.3//NONSGML v1.0//EN
CALSCALE:GREGORIAN
METHOD:PUBLISH
X-WR-CALNAME:Trinity Lutheran Church
X-ORIGINAL-URL:https://trinitylutherandewitt.com
X-WR-CALDESC:Events for Trinity Lutheran Church
BEGIN:VEVENT
DTSTART;TZID=America/Chicago:20141009T100000
DTEND;TZID=America/Chicago:20141009T110000
DTSTAMP:20260424T101234
CREATED:20141002T060858Z
LAST-MODIFIED:20141002T060858Z
UID:891-1412848800-1412852400@trinitylutherandewitt.com
SUMMARY:Chapel Service
DESCRIPTION:Good Samaritan Beatrice \n
URL:https://trinitylutherandewitt.com/event/chapel-service/
LOCATION:Good Samaritan\, Beatrice\, NE\, United States
END:VEVENT
END:VCALENDAR