BEGIN:VCALENDAR
VERSION:2.0
PRODID:-//Trinity Lutheran Church - ECPv4.9.0.3//NONSGML v1.0//EN
CALSCALE:GREGORIAN
METHOD:PUBLISH
X-WR-CALNAME:Trinity Lutheran Church
X-ORIGINAL-URL:https://trinitylutherandewitt.com
X-WR-CALDESC:Events for Trinity Lutheran Church
BEGIN:VEVENT
DTSTART;TZID=America/Chicago:20191009T183000
DTEND;TZID=America/Chicago:20191009T193000
DTSTAMP:20260424T083957
CREATED:20191002T035741Z
LAST-MODIFIED:20191006T035807Z
UID:4893-1570645800-1570649400@trinitylutherandewitt.com
SUMMARY:Confirmation
DESCRIPTION:
URL:https://trinitylutherandewitt.com/event/confirmation-11/
CATEGORIES:Confirmation
END:VEVENT
END:VCALENDAR