BEGIN:VCALENDAR
VERSION:2.0
PRODID:-//Trinity Lutheran Church - ECPv4.9.0.3//NONSGML v1.0//EN
CALSCALE:GREGORIAN
METHOD:PUBLISH
X-WR-CALNAME:Trinity Lutheran Church
X-ORIGINAL-URL:https://trinitylutherandewitt.com
X-WR-CALDESC:Events for Trinity Lutheran Church
BEGIN:VEVENT
DTSTART;TZID=UTC+0:20180613T200000
DTEND;TZID=UTC+0:20180613T210000
DTSTAMP:20260424T040838
CREATED:20180601T082648Z
LAST-MODIFIED:20180605T082723Z
UID:3622-1528920000-1528923600@trinitylutherandewitt.com
SUMMARY:Council meeting
DESCRIPTION:
URL:https://trinitylutherandewitt.com/event/council-meeting-34/
CATEGORIES:Committee
END:VEVENT
END:VCALENDAR