BEGIN:VCALENDAR
VERSION:2.0
PRODID:-//Trinity Lutheran Church - ECPv4.9.0.3//NONSGML v1.0//EN
CALSCALE:GREGORIAN
METHOD:PUBLISH
X-WR-CALNAME:Trinity Lutheran Church
X-ORIGINAL-URL:https://trinitylutherandewitt.com
X-WR-CALDESC:Events for Trinity Lutheran Church
BEGIN:VEVENT
DTSTART;TZID=America/Chicago:20160610T143000
DTEND;TZID=America/Chicago:20160610T163000
DTSTAMP:20260424T084551
CREATED:20160601T095849Z
LAST-MODIFIED:20160602T095941Z
UID:1940-1465569000-1465576200@trinitylutherandewitt.com
SUMMARY:Hope Circle bingo at Wilber Care Center
DESCRIPTION:
URL:https://trinitylutherandewitt.com/event/hope-circle-bingo-at-wilber-care-center/
CATEGORIES:Special Event
END:VEVENT
END:VCALENDAR