BEGIN:VCALENDAR
VERSION:2.0
PRODID:-//Trinity Lutheran Church - ECPv4.9.0.3//NONSGML v1.0//EN
CALSCALE:GREGORIAN
METHOD:PUBLISH
X-WR-CALNAME:Trinity Lutheran Church
X-ORIGINAL-URL:https://trinitylutherandewitt.com
X-WR-CALDESC:Events for Trinity Lutheran Church
BEGIN:VEVENT
DTSTART;TZID=UTC+0:20180321T180000
DTEND;TZID=UTC+0:20180321T183000
DTSTAMP:20260423T124758
CREATED:20180302T044858Z
LAST-MODIFIED:20180302T044858Z
UID:3356-1521655200-1521657000@trinitylutherandewitt.com
SUMMARY:Lenten service
DESCRIPTION:
URL:https://trinitylutherandewitt.com/event/lenten-service-15/
CATEGORIES:Services
END:VEVENT
END:VCALENDAR