BEGIN:VCALENDAR
VERSION:2.0
PRODID:-//Trinity Lutheran Church - ECPv4.9.0.3//NONSGML v1.0//EN
CALSCALE:GREGORIAN
METHOD:PUBLISH
X-WR-CALNAME:Trinity Lutheran Church
X-ORIGINAL-URL:https://trinitylutherandewitt.com
X-WR-CALDESC:Events for Trinity Lutheran Church
BEGIN:VEVENT
DTSTART;TZID=UTC+0:20180321T173000
DTEND;TZID=UTC+0:20180321T180000
DTSTAMP:20260423T112336
CREATED:20180302T044818Z
LAST-MODIFIED:20180302T044818Z
UID:3354-1521653400-1521655200@trinitylutherandewitt.com
SUMMARY:Lenten supper
DESCRIPTION:
URL:https://trinitylutherandewitt.com/event/lenten-supper-8/
CATEGORIES:Special Event
END:VEVENT
END:VCALENDAR