BEGIN:VCALENDAR
VERSION:2.0
PRODID:-//Trinity Lutheran Church - ECPv4.9.0.3//NONSGML v1.0//EN
CALSCALE:GREGORIAN
METHOD:PUBLISH
X-WR-CALNAME:Trinity Lutheran Church
X-ORIGINAL-URL:https://trinitylutherandewitt.com
X-WR-CALDESC:Events for Trinity Lutheran Church
BEGIN:VEVENT
DTSTART;TZID=UTC+0:20181014T160000
DTEND;TZID=UTC+0:20181014T170000
DTSTAMP:20260424T101525
CREATED:20180930T031133Z
LAST-MODIFIED:20180930T031133Z
UID:3918-1539532800-1539536400@trinitylutherandewitt.com
SUMMARY:New member class
DESCRIPTION:
URL:https://trinitylutherandewitt.com/event/new-member-class-21/
CATEGORIES:Special Event
END:VEVENT
END:VCALENDAR