BEGIN:VCALENDAR
VERSION:2.0
PRODID:-//Trinity Lutheran Church - ECPv4.9.0.3//NONSGML v1.0//EN
CALSCALE:GREGORIAN
METHOD:PUBLISH
X-WR-CALNAME:Trinity Lutheran Church
X-ORIGINAL-URL:https://trinitylutherandewitt.com
X-WR-CALDESC:Events for Trinity Lutheran Church
BEGIN:VEVENT
DTSTART;TZID=America/Chicago:20150929T100000
DTEND;TZID=America/Chicago:20150929T120000
DTSTAMP:20260421T013144
CREATED:20150901T100012Z
LAST-MODIFIED:20150901T100012Z
UID:1492-1443520800-1443528000@trinitylutherandewitt.com
SUMMARY:Pastor's bible study
DESCRIPTION:
URL:https://trinitylutherandewitt.com/event/pastors-bible-study-5/
CATEGORIES:Bible Study
END:VEVENT
END:VCALENDAR