BEGIN:VCALENDAR
VERSION:2.0
PRODID:-//Trinity Lutheran Church - ECPv4.9.0.3//NONSGML v1.0//EN
CALSCALE:GREGORIAN
METHOD:PUBLISH
X-WR-CALNAME:Trinity Lutheran Church
X-ORIGINAL-URL:https://trinitylutherandewitt.com
X-WR-CALDESC:Events for Trinity Lutheran Church
BEGIN:VEVENT
DTSTART;TZID=America/Chicago:20161220T100000
DTEND;TZID=America/Chicago:20161220T120000
DTSTAMP:20260424T084236
CREATED:20161202T004031Z
LAST-MODIFIED:20161204T004106Z
UID:2242-1482228000-1482235200@trinitylutherandewitt.com
SUMMARY:Pastors text study
DESCRIPTION:
URL:https://trinitylutherandewitt.com/event/pastors-text-study-18/
CATEGORIES:Bible Study
END:VEVENT
END:VCALENDAR