BEGIN:VCALENDAR
VERSION:2.0
PRODID:-//Trinity Lutheran Church - ECPv4.9.0.3//NONSGML v1.0//EN
CALSCALE:GREGORIAN
METHOD:PUBLISH
X-WR-CALNAME:Trinity Lutheran Church
X-ORIGINAL-URL:https://trinitylutherandewitt.com
X-WR-CALDESC:Events for Trinity Lutheran Church
BEGIN:VEVENT
DTSTART;TZID=America/Chicago:20141024T170000
DTEND;TZID=America/Chicago:20141024T180000
DTSTAMP:20260425T105457
CREATED:20141005T193754Z
LAST-MODIFIED:20141005T193754Z
UID:909-1414170000-1414173600@trinitylutherandewitt.com
SUMMARY:Pospisil Wedding Rehearsal
DESCRIPTION:
URL:https://trinitylutherandewitt.com/event/pospisil-wedding-rehearsal/
LOCATION:Our Church\, 209 N Quince St\, De Witt\, NE\, 68341\, United States
CATEGORIES:Weddings
END:VEVENT
END:VCALENDAR