BEGIN:VCALENDAR
VERSION:2.0
PRODID:-//Trinity Lutheran Church - ECPv4.9.0.3//NONSGML v1.0//EN
CALSCALE:GREGORIAN
METHOD:PUBLISH
X-WR-CALNAME:Trinity Lutheran Church
X-ORIGINAL-URL:https://trinitylutherandewitt.com
X-WR-CALDESC:Events for Trinity Lutheran Church
BEGIN:VEVENT
DTSTART;TZID=UTC+0:20180324T090000
DTEND;TZID=UTC+0:20180324T120000
DTSTAMP:20260423T193034
CREATED:20180302T045124Z
LAST-MODIFIED:20180302T045124Z
UID:3362-1521882000-1521892800@trinitylutherandewitt.com
SUMMARY:Spring cleanup
DESCRIPTION:
URL:https://trinitylutherandewitt.com/event/spring-cleanup/
CATEGORIES:Special Event
END:VEVENT
END:VCALENDAR