BEGIN:VCALENDAR
VERSION:2.0
PRODID:-//Trinity Lutheran Church - ECPv4.9.0.3//NONSGML v1.0//EN
CALSCALE:GREGORIAN
METHOD:PUBLISH
X-WR-CALNAME:Trinity Lutheran Church
X-ORIGINAL-URL:https://trinitylutherandewitt.com
X-WR-CALDESC:Events for Trinity Lutheran Church
BEGIN:VEVENT
DTSTART;TZID=America/Chicago:20151004T084500
DTEND;TZID=America/Chicago:20151004T094500
DTSTAMP:20260421T012813
CREATED:20151001T091653Z
LAST-MODIFIED:20151001T091653Z
UID:1503-1443948300-1443951900@trinitylutherandewitt.com
SUMMARY:Sunday school
DESCRIPTION:
URL:https://trinitylutherandewitt.com/event/sunday-school-10/
CATEGORIES:Sunday school
END:VEVENT
END:VCALENDAR