BEGIN:VCALENDAR
VERSION:2.0
PRODID:-//Trinity Lutheran Church - ECPv4.9.0.3//NONSGML v1.0//EN
CALSCALE:GREGORIAN
METHOD:PUBLISH
X-WR-CALNAME:Trinity Lutheran Church
X-ORIGINAL-URL:https://trinitylutherandewitt.com
X-WR-CALDESC:Events for Trinity Lutheran Church
BEGIN:VEVENT
DTSTART;TZID=America/Chicago:20170430T084500
DTEND;TZID=America/Chicago:20170430T094500
DTSTAMP:20260423T070240
CREATED:20170401T085500Z
LAST-MODIFIED:20170402T085600Z
UID:2503-1493541900-1493545500@trinitylutherandewitt.com
SUMMARY:Sunday school
DESCRIPTION:
URL:https://trinitylutherandewitt.com/event/sunday-school-63/
CATEGORIES:Sunday school
END:VEVENT
END:VCALENDAR