BEGIN:VCALENDAR
VERSION:2.0
PRODID:-//Trinity Lutheran Church - ECPv4.9.0.3//NONSGML v1.0//EN
CALSCALE:GREGORIAN
METHOD:PUBLISH
X-WR-CALNAME:Trinity Lutheran Church
X-ORIGINAL-URL:https://trinitylutherandewitt.com
X-WR-CALDESC:Events for Trinity Lutheran Church
BEGIN:VEVENT
DTSTART;TZID=UTC+0:20180325T084500
DTEND;TZID=UTC+0:20180325T094500
DTSTAMP:20260423T210245
CREATED:20180302T045226Z
LAST-MODIFIED:20180302T045226Z
UID:3364-1521967500-1521971100@trinitylutherandewitt.com
SUMMARY:Sunday school
DESCRIPTION:
URL:https://trinitylutherandewitt.com/event/sunday-school-83/
CATEGORIES:Sunday school
END:VEVENT
END:VCALENDAR