BEGIN:VCALENDAR
VERSION:2.0
PRODID:-//Trinity Lutheran Church - ECPv4.9.0.3//NONSGML v1.0//EN
CALSCALE:GREGORIAN
METHOD:PUBLISH
X-WR-CALNAME:Trinity Lutheran Church
X-ORIGINAL-URL:https://trinitylutherandewitt.com
X-WR-CALDESC:Events for Trinity Lutheran Church
BEGIN:VEVENT
DTSTART;TZID=America/Chicago:20160504T193000
DTEND;TZID=America/Chicago:20160504T203000
DTSTAMP:20260424T101731
CREATED:20160501T092908Z
LAST-MODIFIED:20160502T093259Z
UID:1902-1462390200-1462393800@trinitylutherandewitt.com
SUMMARY:Worship committee
DESCRIPTION:
URL:https://trinitylutherandewitt.com/event/worship-committee-13/
CATEGORIES:Committee
END:VEVENT
END:VCALENDAR