BEGIN:VCALENDAR
VERSION:2.0
PRODID:-//Trinity Lutheran Church - ECPv4.9.0.3//NONSGML v1.0//EN
CALSCALE:GREGORIAN
METHOD:PUBLISH
X-WR-CALNAME:Trinity Lutheran Church
X-ORIGINAL-URL:https://trinitylutherandewitt.com
X-WR-CALDESC:Events for Trinity Lutheran Church
BEGIN:VEVENT
DTSTART;TZID=America/Chicago:20150913T084500
DTEND;TZID=America/Chicago:20150913T094500
DTSTAMP:20260423T003804
CREATED:20150901T093342Z
LAST-MODIFIED:20150901T093342Z
UID:1463-1442133900-1442137500@trinitylutherandewitt.com
SUMMARY:Youth group
DESCRIPTION:
URL:https://trinitylutherandewitt.com/event/youth-group-11/
CATEGORIES:Youth Group
END:VEVENT
END:VCALENDAR